BEGIN:VCALENDAR
VERSION:2.0
PRODID:-//yogsanskriti - ECPv6.2.2//NONSGML v1.0//EN
CALSCALE:GREGORIAN
METHOD:PUBLISH
X-WR-CALNAME:yogsanskriti
X-ORIGINAL-URL:https://yogsanskriti.com
X-WR-CALDESC:Events for yogsanskriti
REFRESH-INTERVAL;VALUE=DURATION:PT1H
X-Robots-Tag:noindex
X-PUBLISHED-TTL:PT1H
BEGIN:VTIMEZONE
TZID:UTC
BEGIN:STANDARD
TZOFFSETFROM:+0000
TZOFFSETTO:+0000
TZNAME:UTC
DTSTART:20230101T000000
END:STANDARD
TZID:UTC
BEGIN:STANDARD
TZOFFSETFROM:+0000
TZOFFSETTO:+0000
TZNAME:UTC
DTSTART:20230101T000000
END:STANDARD
END:VTIMEZONE
BEGIN:VEVENT
DTSTART;VALUE=DATE:20240115
DTEND;VALUE=DATE:20240122
DTSTAMP:20260424T072849
CREATED:20240115T183617Z
LAST-MODIFIED:20231017T133737Z
UID:383-1705276800-1705881599@yogsanskriti.com
SUMMARY:Relaxation Retreat
DESCRIPTION:Relaxation Retreat\nA relaxation retreat is a place or program designed to provide individuals with a peaceful and rejuvenating experience\, helping them to unwind\, de-stress\, and recharge.  Here are some key elements commonly found in relaxation retreats: Yoga\, Meditation\, Spa treatment\, Excursion to natural sight\, rafting\, Ganga aarti etc. \nHighlight \n\n6 Night Non AC Accommodation\nDaily vegetarian Sattvic meals\nDaily Ayurveda messages\ndaily Nadi cleansing kriyas\nDaily Prana flow breathing practice\nDaily traditional Hatha Yoga Asana session\nDaily Meditation session\nvisit to Ganga aarti and nearby ashrams\nOne excursion
URL:https://yogsanskriti.com/event/200hr-vinyasa-ashtanga-yoga-teacher-training/
LOCATION:yogsanskriti\, Balaknath Tample road\, Tapovan\, Rishikesh\, India
CATEGORIES:Training
ATTACH;FMTTYPE=image/jpeg:https://yogsanskriti.com/wp-content/uploads/2018/05/TTC_img.jpg
END:VEVENT
BEGIN:VEVENT
DTSTART;TZID=UTC:20231219T070000
DTEND;TZID=UTC:20231224T170000
DTSTAMP:20260424T072849
CREATED:20180521T182846Z
LAST-MODIFIED:20231023T135409Z
UID:371-1702969200-1703437200@yogsanskriti.com
SUMMARY:7 Days Panchkarma Retreat
DESCRIPTION:7 Days Panchkarma Retreat\nIn Ayurveda\, detoxification is referred to as “Panchakarma\,” which means “five actions” in Sanskrit. Panchakarma is a comprehensive detoxification process that aims to balance the doshas (Vata\, Pitta\, and Kapha).Ayurvedic detox also involves dietary and lifestyle modifications to support the elimination of toxins. \nHightlight \n\n6 night accommodation\nVegetarian sattvic meals\nDaily Ayurvedic therapies\nDaily Pranayama\, Yoga session\nDaily Meditation session\nAyurvedic  doctor consultation on arrival\none excursion
URL:https://yogsanskriti.com/event/foundation-yoga/
LOCATION:yogsanskriti\, Balaknath Tample road\, Tapovan\, Rishikesh\, India
CATEGORIES:Training
ATTACH;FMTTYPE=image/jpeg:https://yogsanskriti.com/wp-content/uploads/2018/05/750x416_img1.jpg
END:VEVENT
BEGIN:VEVENT
DTSTART;TZID=UTC:20230925T000000
DTEND;TZID=UTC:20230929T235900
DTSTAMP:20260424T072849
CREATED:20180521T183502Z
LAST-MODIFIED:20231023T134839Z
UID:381-1695600000-1696031940@yogsanskriti.com
SUMMARY:Spiritual Retreat
DESCRIPTION:A Yoga retreat to reconnect with self\, amidst pristine nature to be conducted by a master from the land of Ganga and the Himalayas.\nA detox from the stress of our routine lives. A yoga retreat offers a daily (oftentimes\, twice daily) structure that will give your body and mind a deeper practice. We offers you spiritual yoga retreat in Rishikesh\, which is located at the bank of the Ganga river\, Rishikesh. \nYou will experience here yoga is a art of living\, Devine and sattvic life. You will begin your yogic and spiritual journey from here. This experience helps to decide your dharma as well as right path of your karma and you Build up your own sadhana path. The sessions will let you dive deep into the ancient tradition of yoga and into yourself.
URL:https://yogsanskriti.com/event/spiritual-retreat-yoga/
LOCATION:yogsanskriti\, Balaknath Tample road\, Tapovan\, Rishikesh\, India
CATEGORIES:Training
ATTACH;FMTTYPE=image/jpeg:https://yogsanskriti.com/wp-content/uploads/2018/05/spiritual_img.jpg
ORGANIZER;CN="Company Name":MAILTO:info@companyname.com
END:VEVENT
BEGIN:VEVENT
DTSTART;TZID=UTC:20230920T080000
DTEND;TZID=UTC:20230920T170000
DTSTAMP:20260424T072849
CREATED:20230920T121446Z
LAST-MODIFIED:20230920T122256Z
UID:2941-1695196800-1695229200@yogsanskriti.com
SUMMARY:Special Retreat
DESCRIPTION:
URL:https://yogsanskriti.com/event/special-retreat/
LOCATION:yogsanskriti\, Balaknath Tample road\, Tapovan\, Rishikesh\, India
ATTACH;FMTTYPE=image/jpeg:https://yogsanskriti.com/wp-content/uploads/2018/05/spiritual_img.jpg
END:VEVENT
BEGIN:VEVENT
DTSTART;VALUE=DATE:20231010
DTEND;VALUE=DATE:20231016
DTSTAMP:20260424T072849
CREATED:20231014T123004Z
LAST-MODIFIED:20231017T131647Z
UID:385-1696896000-1697414399@yogsanskriti.com
SUMMARY:7 Days Yoga Wellness & Detox Retreat
DESCRIPTION:7 Days Yoga Wellness & Detox Retreat\nYoga and wellness are closely related concepts that focus on promoting physical\, mental\, and emotional well-being. Wellness is a broader concept that refers to the state of being in good health and a balanced well-being across various dimensions of life.Ayurveda includes various practices like herbal medicine\, dietary guidelines\, lifestyle recommendations\, and detoxification procedures. \nHeightlight:-\n\nDaily Cleansing kriya (Neti)\, Pranayama\, Hatha Yoga session\nDaily Meditation session\nDaily Ayurvedic treatments\n30 min Ayurveda doctor consultation\nYoga consultation Q/A session\n6 night accommodation\nVegetarian meals including breakfast\n1 excursion\nVisit to holy Ganga aarti
URL:https://yogsanskriti.com/event/mantra-yoga/
LOCATION:yogsanskriti\, Balaknath Tample road\, Tapovan\, Rishikesh\, India
CATEGORIES:Training
ATTACH;FMTTYPE=image/jpeg:https://yogsanskriti.com/wp-content/uploads/2018/05/chanting_img.jpg
END:VEVENT
END:VCALENDAR