BEGIN:VCALENDAR
VERSION:2.0
PRODID:-//yogsanskriti - ECPv6.2.2//NONSGML v1.0//EN
CALSCALE:GREGORIAN
METHOD:PUBLISH
X-WR-CALNAME:yogsanskriti
X-ORIGINAL-URL:https://yogsanskriti.com
X-WR-CALDESC:Events for yogsanskriti
REFRESH-INTERVAL;VALUE=DURATION:PT1H
X-Robots-Tag:noindex
X-PUBLISHED-TTL:PT1H
BEGIN:VTIMEZONE
TZID:UTC
BEGIN:STANDARD
TZOFFSETFROM:+0000
TZOFFSETTO:+0000
TZNAME:UTC
DTSTART:20230101T000000
END:STANDARD
END:VTIMEZONE
BEGIN:VEVENT
DTSTART;TZID=UTC:20230920T080000
DTEND;TZID=UTC:20230920T170000
DTSTAMP:20260425T022826
CREATED:20230920T121446Z
LAST-MODIFIED:20230920T122256Z
UID:2941-1695196800-1695229200@yogsanskriti.com
SUMMARY:Special Retreat
DESCRIPTION:
URL:https://yogsanskriti.com/event/special-retreat/
LOCATION:yogsanskriti\, Balaknath Tample road\, Tapovan\, Rishikesh\, India
ATTACH;FMTTYPE=image/jpeg:https://yogsanskriti.com/wp-content/uploads/2018/05/spiritual_img.jpg
END:VEVENT
END:VCALENDAR