BEGIN:VCALENDAR
VERSION:2.0
PRODID:-//yogsanskriti - ECPv6.2.2//NONSGML v1.0//EN
CALSCALE:GREGORIAN
METHOD:PUBLISH
X-WR-CALNAME:yogsanskriti
X-ORIGINAL-URL:https://yogsanskriti.com
X-WR-CALDESC:Events for yogsanskriti
REFRESH-INTERVAL;VALUE=DURATION:PT1H
X-Robots-Tag:noindex
X-PUBLISHED-TTL:PT1H
BEGIN:VTIMEZONE
TZID:UTC
BEGIN:STANDARD
TZOFFSETFROM:+0000
TZOFFSETTO:+0000
TZNAME:UTC
DTSTART:20230101T000000
END:STANDARD
END:VTIMEZONE
BEGIN:VEVENT
DTSTART;VALUE=DATE:20230902
DTEND;VALUE=DATE:20241202
DTSTAMP:20260422T223523
CREATED:20180521T183907Z
LAST-MODIFIED:20240104T111740Z
UID:387-1693612800-1733097599@yogsanskriti.com
SUMMARY:Yoga Philosophy
DESCRIPTION:Yoga philosophy is a comprehensive system of beliefs and principles that underlie the practice of yoga\, a holistic approach to physical\, mental\, and spiritual well-being. Yoga philosophy encompasses a wide range of ideas\, concepts\, and practices that aim to help individuals attain a state of balance\, inner peace\, and self-realization. While there are several schools of thought within yoga philosophy\, one of the most influential and widely known is the philosophy outlined in the Yoga Sutras of Patanjali\, a classical text dating back to ancient India. \nYoga philosophy is not just a theoretical framework; it is meant to be applied in daily life and integrated into one’s yoga practice. It offers guidance on how to lead a balanced and meaningful life while pursuing spiritual growth and self-realization. Different schools of yoga may emphasize different aspects of this philosophy\, but the ultimate goal is to achieve a state of inner harmony and union with the divine. \nYoga philosophy include the ethical and moral guidelines  (Yama & Niyama) that provide a framework for living a virtuous and meaningful life. The Yamas are principles of restraint and include concepts like non-violence (ahimsa) and truthfulness (satya). The Niyamas are principles of observance and include concepts like cleanliness (saucha) and contentment (santosha). \nAsana the physical postures and poses\,  Pranayama (breath control techniques) and The stages of meditation and concentration that lead to a deep state of contemplation and union with the divine.  Patanjali’s Yoga Sutras outline the eight limbs of yoga\, which provide a systematic approach to spiritual evolution. These limbs include ethical principles\, physical postures\, breath control\, sense withdrawal\, concentration\, meditation\, and realization. The concept of karma\, Bhakti and Jnana that focuses on knowledge and self-inquiry and selfless service and action helps individuals to shape their destiny and spiritual growth. \nWhat To Bring:\n\nID- Passport/Aadhar Card\nYoga Mat\nwater bottle\nany medicine\nmosquito repellents\nsanitizers\nother utilities
URL:https://yogsanskriti.com/event/yoga-philosophy/
LOCATION:yogsanskriti\, Balaknath Tample road\, Tapovan\, Rishikesh\, India
CATEGORIES:Training
ATTACH;FMTTYPE=image/jpeg:https://yogsanskriti.com/wp-content/uploads/2018/05/yoga_ph_img.jpg
END:VEVENT
BEGIN:VEVENT
DTSTART;VALUE=DATE:20231010
DTEND;VALUE=DATE:20231016
DTSTAMP:20260422T223523
CREATED:20231014T123004Z
LAST-MODIFIED:20231017T131647Z
UID:385-1696896000-1697414399@yogsanskriti.com
SUMMARY:7 Days Yoga Wellness & Detox Retreat
DESCRIPTION:7 Days Yoga Wellness & Detox Retreat\nYoga and wellness are closely related concepts that focus on promoting physical\, mental\, and emotional well-being. Wellness is a broader concept that refers to the state of being in good health and a balanced well-being across various dimensions of life.Ayurveda includes various practices like herbal medicine\, dietary guidelines\, lifestyle recommendations\, and detoxification procedures. \nHeightlight:-\n\nDaily Cleansing kriya (Neti)\, Pranayama\, Hatha Yoga session\nDaily Meditation session\nDaily Ayurvedic treatments\n30 min Ayurveda doctor consultation\nYoga consultation Q/A session\n6 night accommodation\nVegetarian meals including breakfast\n1 excursion\nVisit to holy Ganga aarti
URL:https://yogsanskriti.com/event/mantra-yoga/
LOCATION:yogsanskriti\, Balaknath Tample road\, Tapovan\, Rishikesh\, India
CATEGORIES:Training
ATTACH;FMTTYPE=image/jpeg:https://yogsanskriti.com/wp-content/uploads/2018/05/chanting_img.jpg
END:VEVENT
END:VCALENDAR